BEGIN:VCALENDAR
VERSION:2.0
PRODID:-//Syndicat de Quartier de Toctoucau - ECPv6.11.2//NONSGML v1.0//EN
CALSCALE:GREGORIAN
METHOD:PUBLISH
X-WR-CALNAME:Syndicat de Quartier de Toctoucau
X-ORIGINAL-URL:https://toctoucau.fr
X-WR-CALDESC:Évènements pour Syndicat de Quartier de Toctoucau
REFRESH-INTERVAL;VALUE=DURATION:PT1H
X-Robots-Tag:noindex
X-PUBLISHED-TTL:PT1H
BEGIN:VTIMEZONE
TZID:Europe/Paris
BEGIN:DAYLIGHT
TZOFFSETFROM:+0100
TZOFFSETTO:+0200
TZNAME:CEST
DTSTART:20240331T010000
END:DAYLIGHT
BEGIN:STANDARD
TZOFFSETFROM:+0200
TZOFFSETTO:+0100
TZNAME:CET
DTSTART:20241027T010000
END:STANDARD
END:VTIMEZONE
BEGIN:VEVENT
DTSTART;TZID=Europe/Paris:20240308T180000
DTEND;TZID=Europe/Paris:20240308T200000
DTSTAMP:20260424T031820
CREATED:20240227T143251Z
LAST-MODIFIED:20240314T172522Z
UID:108-1709920800-1709928000@toctoucau.fr
SUMMARY:Assainissement sur Toctoucau (Pessac) : présentation des travaux terminés et à venir
DESCRIPTION:La municipalité de Pessac avec Bordeaux Métropole Direction de l’eau\, organise une réunion publique le vendredi 8 mars à 18h00 à la maison municipalité de Toctoucau. L’ordre du jour sera la présentation des travaux terminés et à venir sur Toctoucau au niveau assainissement. \nLe document présenté lors de cette réunion est disponible en cliquant ici  :
URL:https://toctoucau.fr/event/assainissement-sur-toctoucau-presentation-des-travaux-termines-et-a-venir/
CATEGORIES:Réunion
ATTACH;FMTTYPE=image/jpeg:https://toctoucau.fr/wp-content/uploads/2024/02/Bouche-egout.jpg
END:VEVENT
END:VCALENDAR